BEGIN:VCALENDAR
VERSION:2.0
PRODID:-//CERN//INDICO//EN
BEGIN:VEVENT
SUMMARY:Linux Tools - Day 2
DTSTART:20260312T080000Z
DTEND:20260312T120000Z
DTSTAMP:20260422T104000Z
UID:indico-event-101@events.hpc-portal.eu
DESCRIPTION:This course will give an introduction to several useful Linux 
 tools useful in academic research and everyday use of the system. \nProgr
 am\n\nBrief introduction to script files in Bash shell\nUsing quotes\nComm
 and line parameters\ni/o and pipes\nUseful commands: grep\, cut\, uniq\, t
 r\, sort\, join\nLinux tools: awk\, sed \nData visualization - Gnuplot\nI
 mage processing: ImageMagick\nUsing Linux scripting in writing Slurm scrip
 ts for HPC\nThis course provides hands-on sessions\n\n\nhttps://events.hpc
 -portal.eu/event/101/
LOCATION:ICTW
URL:https://events.hpc-portal.eu/event/101/
END:VEVENT
END:VCALENDAR
