BEGIN:VCALENDAR
VERSION:2.0
PRODID:-//CERN//INDICO//EN
BEGIN:VEVENT
SUMMARY:Introduction to SURF Research Cloud
DTSTART:20260421T070000Z
DTEND:20260421T110000Z
DTSTAMP:20260422T104000Z
UID:indico-event-213@events.hpc-portal.eu
DESCRIPTION:\n\nDo you want to create and manage your own work environment
  and run powerful applications on it? SURF Research Cloud opens the door t
 o cloud computing on different platforms. During this training\, your work
 load runs on the SURF HPC Cloud platform in Amsterdam.\n\n\nSign up\n\n\n\
 n\n\n\n\n\n\nThis training explains cloud computing in general. The accomp
 anying hands-on approach introduces you to (some of) the many features of 
 SURF Research Cloud. You will learn how to create and manage your own virt
 ual computing environment(s). By the end\, you will feel comfortable enoug
 h to install your own applications\, and benefit from the power of cloud c
 omputing.\nFor whom?\nAnyone who wants to use a flexible and customized en
 vironment to run powerful applications.\nThe language of instruction is En
 glish.\nRequirements\n\nBring your own laptop.\nA browser (Chrome or Firef
 ox is good enough).\nExperience with Linux commands helps but is not a req
 uirement.\n\n\n\n\n\n\n\n \n\nSign up now Introduction to SURF Research C
 loud\n\n\n\n\n\n\n\nhttps://events.hpc-portal.eu/event/213/
LOCATION:Erasmus University
URL:https://events.hpc-portal.eu/event/213/
END:VEVENT
END:VCALENDAR
