BEGIN:VCALENDAR
VERSION:2.0
PRODID:-//CERN//INDICO//EN
BEGIN:VEVENT
SUMMARY:Debugging with TotalView
DTSTART:20260305T123000Z
DTEND:20260305T143000Z
DTSTAMP:20260422T103900Z
UID:indico-event-259@events.hpc-portal.eu
DESCRIPTION:General Information\nTotalView from Perforce Software is a par
 allel debugger for complex C\, C++\, Fortran\, and CUDA applications. \nL
 RZ’s SuperMUC-NG Phase 2 and the upcoming new partition of the Linux Clu
 ster CM4 are heterogeneous systems comprising both CPUs and GPUs. This het
 erogeneity makes it difficult to identify and challenging to fix coding er
 rors in user applications that utilise both types of computing resources. 
 In this online course\, participants will learn how to use TotalView to de
 bug parallel applications running on CPUs and GPUs.\nTopics covered includ
 e:\n\nMultithreaded debugging (OpenMP and pthreads)\nUnderstanding complex
  data structures (advanced C++ and data debugging)\nRemote debugging\nDebu
 gging CUDA applications\nMemory debugging (memory leaks\, buffer overflows
 \, dangling pointers)\nReverse debugging with ReplayEngine\nBatch debuggin
 g with tvscript\nBest practices for debugging with TotalView\n\n \nDetail
 s about the course can be found here: Debugging with TotalView\n\nhttps://
 events.hpc-portal.eu/event/259/
URL:https://events.hpc-portal.eu/event/259/
END:VEVENT
END:VCALENDAR
