BEGIN:VCALENDAR
VERSION:2.0
PRODID:-//CERN//INDICO//EN
BEGIN:VEVENT
SUMMARY:Programming of Petaflop Machine: MareNostrum5
DTSTART:20260303T080000Z
DTEND:20260304T120000Z
DTSTAMP:20260422T103800Z
UID:indico-event-270@events.hpc-portal.eu
DESCRIPTION:The objective of this course is to present to potential users 
 the new configuration of MareNostrum and a introduction on how to use the 
 new system (batch system\, compilers\, hardware\, MPI\, etc). Also It will
  provide an introduction about RES infrastructures and how to get access t
 o the supercomputing resources available.\n\nhttps://events.hpc-portal.eu/
 event/270/
LOCATION:Barcelona
URL:https://events.hpc-portal.eu/event/270/
END:VEVENT
END:VCALENDAR
