BEGIN:VCALENDAR
VERSION:2.0
PRODID:-//CERN//INDICO//EN
BEGIN:VEVENT
SUMMARY:Advanced Heterogeneous Programming on GPUs with MPI & OmpSs
DTSTART:20260316T083000Z
DTEND:20260317T170000Z
DTSTAMP:20260422T104000Z
UID:indico-event-272@events.hpc-portal.eu
DESCRIPTION:The tutorial will motivate the audience on the need for portab
 le\, efficient programming models that put less pressure on program develo
 pers while still getting good performance for clusters and clusters with G
 PUs.\nMore specifically\, the tutorial will:\n\nIntroduce the hybrid MPI/O
 mpSs parallel programming model for future exascale systems\nDemonstrate h
 ow to use MPI/OmpSs to incrementally parallelize/optimize:\n\nMPI applicat
 ions on clusters of SMPs\, and\nLeverage CUDA kernels with OmpSs on cluste
 rs of GPUs\n\n\n\n\nhttps://events.hpc-portal.eu/event/272/
LOCATION:Barcelona
URL:https://events.hpc-portal.eu/event/272/
END:VEVENT
END:VCALENDAR
