BEGIN:VCALENDAR
VERSION:2.0
PRODID:-//CERN//INDICO//EN
BEGIN:VEVENT
SUMMARY:Research Data Management for Beginners
DTSTART:20260427T080000Z
DTEND:20260429T113000Z
DTSTAMP:20260422T121900Z
UID:indico-event-276@events.hpc-portal.eu
DESCRIPTION:The main goal of this course is to provide basic concepts\, an
 d practical examples\, and hands-on exercises related to Data Management a
 ctivities for researchers and research support staff. The objectives of th
 e course are:\n\nFamiliarize participants with Data Management fundamental
 s and best practices for researchers and research support staff.\nIdentify
  the role and responsibilities of Data Managers in research activities.\nI
 llustrate the practical application of FAIR principles for managing resear
 ch data.\nDiscuss the European context for Data Management\, including Dat
 a Management Plans for HE.\nIntroduce the concepts and practices of Open S
 cience and Open Data.\nPrepare participants to design and deliver introduc
 tory training on RDM topics.\nFacilitate hands-on exercises to: a) Compare
  and contrast various DMP tools and templates available to researchers b) 
 Develop a Data Management Plan for a research project c) Assess the qualit
 y and effectiveness of a Data Management Plan.\n\n\nhttps://events.hpc-por
 tal.eu/event/276/
LOCATION:Barcelona
URL:https://events.hpc-portal.eu/event/276/
END:VEVENT
END:VCALENDAR
