BEGIN:VCALENDAR
VERSION:2.0
PRODID:-//CERN//INDICO//EN
BEGIN:VEVENT
SUMMARY:Yoda hands-on workshop
DTSTART:20260422T073000Z
DTEND:20260422T133000Z
DTSTAMP:20260422T122000Z
UID:indico-event-296@events.hpc-portal.eu
DESCRIPTION:\n\nThis workshop will provide you with the knowledge you need
  to make your research data FAIR (findable\, accessible\, interoperable an
 d reusable). You will experience the typical workflows for handling data a
 nd metadata in Yoda\, an integral support tool for the whole data life cyc
 le.\nWhat will you learn in this training?\nAfter completion of this tutor
 ial\, you will be able to:\n\n     Explain the importance of met
 adata and its relation to the dataset\n     Demonstrate how to s
 earch for datasets in Yoda\n     Explain the difference between 
 the Research area and the Vault area in Yoda\n     Demonstrate h
 ow to include useful metadata in Yoda\n     Show how to upload d
 ata in Yoda\n     Operate the cycle of securing\, retrieving\, a
 nd updating data independently in Yoda (including in the connected tape ar
 chive)\n     Operate the cycle of securing data supervised by a 
 data steward in Yoda\n     Demonstrate how to check metadata and
  approve submissions to Yoda Vault\n\nFor whom?\nAnyone\, including resear
 chers and data stewards\, who wants to learn to manage research data in an
  efficient and scalable way using Yoda.\n\n\nSign up\n\nhttps://events.hpc
 -portal.eu/event/296/
LOCATION:SURF Utrecht
URL:https://events.hpc-portal.eu/event/296/
END:VEVENT
END:VCALENDAR
