BEGIN:VCALENDAR
VERSION:2.0
PRODID:-//CERN//INDICO//EN
BEGIN:VEVENT
SUMMARY:Parallel programming with MPI - Day 3
DTSTART:20260421T220000Z
DTEND:20260422T140000Z
DTSTAMP:20260422T140500Z
UID:indico-event-297@events.hpc-portal.eu
DESCRIPTION:https://events.hpc-portal.eu/event/297/
URL:https://events.hpc-portal.eu/event/297/
END:VEVENT
END:VCALENDAR
