BEGIN:VCALENDAR
VERSION:2.0
PRODID:-//CERN//INDICO//EN
BEGIN:VEVENT
SUMMARY:BeeGFS in Practice - Parallel File Systems for HPC\, AI and Data-I
 ntensive Workloads
DTSTART:20260305T130000Z
DTEND:20260305T143000Z
DTSTAMP:20260422T103900Z
UID:indico-event-308@events.hpc-portal.eu
DESCRIPTION:Discover how modern parallel file systems enable scalable and 
 efficient data management for high-performance computing and artificial in
 telligence.This webinar introduces BeeGFS\, a leading parallel file syste
 m designed to support demanding HPC\, AI\, and data-intensive workloads. E
 xperts from ThinkParQ will explain how parallel file systems work\, how Be
 eGFS is architected\, and how it is used in practice across academic\, res
 earch\, and industrial environments.\nDate and Time:Thursday\, March 5th\,
  2026 | 14:00 – 15:30 CETOnline | Free Registration\nREGISTER HERE: http
 s://conf.e-science.pl/event/121/\nThis webinar is organized by the Polish
  National Competence Centre in HPC as part of the EuroCC project (NCC P
 oland) in cooperation with ThinkParQ.\nThe webinar will be held in Engli
 sh.\nAbstract:\nAs high-performance computing and artificial intelligence 
 workloads continue to grow in scale and complexity\, efficient data access
  becomes a critical factor for overall system performance. Parallel file s
 ystems address this challenge by enabling concurrent access to distributed
  storage resources\, supporting highly parallel and data-intensive applica
 tions.\nThis webinar introduces the fundamental concepts of parallel file 
 systems and their role in modern HPC environments\, with a focus on BeeGFS
 . The session will explain BeeGFS architecture and core components\, key d
 esign principles\, and features supporting performance\, scalability\, and
  ease of management. Topics will include data management capabilities intr
 oduced in BeeGFS 8\, on-demand storage with BeeOND\, and an overview of co
 mmunity and enterprise editions.\nReal-world reference stories from HPC\, 
 AI\, and enterprise environments will be discussed to illustrate how BeeGF
 S is applied in practice. The webinar will conclude with a discussion and 
 Q&A session.\nOutline:\n\nIntroduction and motivation: data challenges in 
 HPC and AI\nParallel file systems explained\nBeeGFS architecture and core 
 components\nWhy choose BeeGFS: performance\, scalability\, and ease of use
 \nData management capabilities in BeeGFS 8\nBeeOND: on-demand storage for 
 HPC workloads\nCommunity vs Enterprise (Hive) editions\nReference stories 
 from HPC\, AI\, and enterprise environments\nDiscussion and Q&A\n\n \nSpe
 akers:\nDominic McKendryBusiness Development Director Northern Europe\, Th
 inkParQ GmbH\n\nDominic McKendry is Business Development Director for Nort
 hern Europe at ThinkParQ\, the company behind the parallel file system Bee
 GFS. He works with partners and end users across the HPC\, AI\, and data-i
 ntensive computing landscape\, focusing on real-world use cases and adopti
 on of BeeGFS in research and industry. He brings extensive experience from
  the enterprise IT and HPC sector\, including over 18 years at Dell Techno
 logies\, and holds an MBA from Purdue University\, with an academic backgr
 ound in international management and business studies.\nIngo MartiniPresal
 es Director BeeGFS\, ThinkParQ GmbH\n\nIngo Martini is a Presales Consulta
 nt at ThinkParQ\, specializing in BeeGFS and its deployment in HPC\, AI\, 
 and data-intensive environments. He supports customers and partners with s
 olution design\, architecture discussions\, and technical positioning of B
 eeGFS. He has a strong technical foundation built through long-term work i
 n storage systems and infrastructure engineering\, complemented by formal 
 training and certifications\, including AWS Certified Cloud Practitioner\,
  and a solid engineering-oriented background.\n\nhttps://events.hpc-portal
 .eu/event/308/
URL:https://events.hpc-portal.eu/event/308/
END:VEVENT
END:VCALENDAR
