BEGIN:VCALENDAR
VERSION:2.0
PRODID:-//CERN//INDICO//EN
BEGIN:VEVENT
SUMMARY:HPC Training Series - Course 20 "Gradient-based and gradient-free 
 optimization\, with applications to CFD and beyond"
DTSTART:20260304T080000Z
DTEND:20260304T140000Z
DTSTAMP:20260422T103700Z
UID:indico-event-331@events.hpc-portal.eu
DESCRIPTION:\n\n\n\nEuroCC@Greece and the National Technical University of
  Athens announce the 20th Course of HPC Training Series with the subject 
 “Gradient-based and gradient-free optimization\, with applications to CF
 D and beyond”\, taking place online on March 4th\, 2026.\n \nPresentati
 on language: Greek\n \nAudience: Suitable for students\, researchers\, an
 d engineers interested in understanding and using optimization algorithms 
 in CFD and other disciplines.\n \nCourse Description: This course include
 s an introduction to the adjoint-assisted\, gradient-based optimization wo
 rkflow of the open-source CFD toolbox\, OpenFOAM\, with some demo applicat
 ions and continues with an introduction to gradient-free optimization meth
 ods\, such as evolutionary algorithms\, with emphasis on metamodels and ar
 tificial intelligence for reducing the optimization turnaround time.\nMore
  information and the course’s Agenda can be found here.\nRegister to att
 end by filling out the form here. \n\n\n\n\n\n\n\n \n\n\n\n\n\n\n\n\n\n\
 nRegister Here\n\n\n\n\n\n\n\n\n\n\n \n\n\n\n\n\n\n\n\nNote: Please enter
  your institutional/corporate email when registering.\n\n\n\n\n\n\nhttps:/
 /events.hpc-portal.eu/event/331/
URL:https://events.hpc-portal.eu/event/331/
END:VEVENT
END:VCALENDAR
