BEGIN:VCALENDAR
VERSION:2.0
PRODID:-//CERN//INDICO//EN
BEGIN:VEVENT
SUMMARY:All electron DFT with Fleur - a Hands-on Tutorial
DTSTART:20260327T150000Z
DTEND:20260327T220000Z
DTSTAMP:20260422T103900Z
UID:indico-event-339@events.hpc-portal.eu
DESCRIPTION:https://events.hpc-portal.eu/event/339/
URL:https://events.hpc-portal.eu/event/339/
END:VEVENT
END:VCALENDAR
