BEGIN:VCALENDAR
VERSION:2.0
PRODID:-//CERN//INDICO//EN
BEGIN:VEVENT
SUMMARY:AMD Instinct™ GPU Training
DTSTART:20260421T110000Z
DTEND:20260424T150000Z
DTSTAMP:20260422T103900Z
UID:indico-event-341@events.hpc-portal.eu
DESCRIPTION:This course will give a deep dive into the AMD Instinct™ GPU
  architecture and its ROCm™ ecosystem\, including the tools to develop o
 r port HPC or AI applications to AMD GPUs. Participants will be introduced
  to the programming models for discrete GPUs and APU. This course gives yo
 u crucial insights how to use and program HLRS's system Hunter which is eq
 uipped with the MI300A APUs and the next system Herder.\nThe new unified m
 emory programming model makes writing HPC applications much easier for a w
 ide range of GPU programming models. We will cover how to use pragma-based
  languages such as OpenMP\, the basic GPU programming language HIP\, and t
 he performance portable language Kokkos. In addition\, there will be prese
 ntations on other important topics such as GPU-aware MPI\, and Affinity. T
 he AMD tool suite\, including the debugger and the profiling tools will al
 so be covered.\nA short introduction will be given into using GPUs with Py
 thon and container workflows\, in particular for AI workflows.\nThis train
 ing is offered in cooperation with AMD and MPCDF.\n\nhttps://events.hpc-po
 rtal.eu/event/341/
LOCATION:Germany
URL:https://events.hpc-portal.eu/event/341/
END:VEVENT
END:VCALENDAR
