BEGIN:VCALENDAR
VERSION:2.0
PRODID:-//CERN//INDICO//EN
BEGIN:VEVENT
SUMMARY:Fortran on GPU
DTSTART:20260402T080000Z
DTEND:20260420T100000Z
DTSTAMP:20260422T140400Z
UID:indico-event-433@events.hpc-portal.eu
DESCRIPTION:FORTRAN with the good pronounciation can rhyme with dinosaur w
 as replaced in silence by Fortran (90)\, at the end of the previous centur
 y. Knocked out by languages of the internet bubble\, its children are back
  at the front of the stage. We will have an overview of modern Fortran\, h
 ow to exploite parallelism\, vectorization and GPUs with this language ded
 icated to computing and its integration with development pipelines : build
  and unit tests. The grandeur and misery of self-parallelization. After an
  overview of modern capacities of post-90 Fortran\, we will put to the tes
 t claims of compilers about vectorization\, parallelization and GPU-ize al
 l the concurency we can express with modern syntaxes. And eventually witho
 ut the need of OpenMP or OpenACC instructions. The example came from a lon
 g time ago\, three little photons\, will be our test bench. \n \nWhat ar
 e Gray Scott Thursdays?\nGray Scott Thursdays are a unique series of 18 li
 ve webinars\, held every Thursday leading up to the Gray Scott School 2026
 . Each session is presented by our expert professors and provides an early
  dive into the key topics of High-Performance Computing\, including:\nCPU/
 GPU architectures\, memory management\, profiling\, testing\, and modern p
 rogramming languages such as C++\, Fortran\, Julia and Python… and much 
 more!\nThese webinars are a perfect opportunity to get a head start\, lear
 n directly from the instructors\, and familiarize yourself with the tools\
 , libraries\, and methods that will be used during the intensive on-site t
 raining.\n\nhttps://events.hpc-portal.eu/event/433/
URL:https://events.hpc-portal.eu/event/433/
END:VEVENT
END:VCALENDAR
